BEGIN:VCALENDAR
VERSION:2.0
PRODID:-//eventon.com NONSGML v1.0//EN
CALSCALE:GREGORIAN
METHOD:PUBLISH
BEGIN:VEVENT
UID:69e7326feffdc
DTSTAMP:20260421T081647Z
DTSTART:20240419T183000Z
DTEND:20240419T203000Z
LOCATION:Kehelland Methodist Chapel Kehelland\,  Camborne\,  Cornwall TR14 0DE
SUMMARY:Choir Rehearsal
DESCRIPTION:\nhttps://www.holmanclimaxmalevoicechoir.co.uk/events/choir-reh
 earsal-3
URL:https://www.holmanclimaxmalevoicechoir.co.uk/events/choir-rehearsal-3
END:VEVENT
END:VCALENDAR