BEGIN:VCALENDAR
VERSION:2.0
PRODID:-//eventon.com NONSGML v1.0//EN
CALSCALE:GREGORIAN
METHOD:PUBLISH
BEGIN:VEVENT
UID:69e73418cee8c
DTSTAMP:20260421T082352Z
DTSTART:20240428T180000Z
DTEND:20240428T225900Z
LOCATION:Camborne Centenary Methodist Church 70 Centenary Street\,  Camborne TR14 8HS
SUMMARY:Concert - Camborne Centenary Flower Festival
DESCRIPTION:\nhttps://www.holmanclimaxmalevoicechoir.co.uk/events/flower-fe
 stival-concert
URL:https://www.holmanclimaxmalevoicechoir.co.uk/events/flower-festival-concert
END:VEVENT
END:VCALENDAR